BEGIN:VCALENDAR
VERSION:2.0
PRODID:-//oregonhospice.org - ECPv6.15.20//NONSGML v1.0//EN
CALSCALE:GREGORIAN
METHOD:PUBLISH
X-WR-CALNAME:oregonhospice.org
X-ORIGINAL-URL:https://oregonhospice.org
X-WR-CALDESC:Events for oregonhospice.org
REFRESH-INTERVAL;VALUE=DURATION:PT1H
X-Robots-Tag:noindex
X-PUBLISHED-TTL:PT1H
BEGIN:VTIMEZONE
TZID:America/Los_Angeles
BEGIN:DAYLIGHT
TZOFFSETFROM:-0800
TZOFFSETTO:-0700
TZNAME:PDT
DTSTART:20250309T100000
END:DAYLIGHT
BEGIN:STANDARD
TZOFFSETFROM:-0700
TZOFFSETTO:-0800
TZNAME:PST
DTSTART:20251102T090000
END:STANDARD
BEGIN:DAYLIGHT
TZOFFSETFROM:-0800
TZOFFSETTO:-0700
TZNAME:PDT
DTSTART:20260308T100000
END:DAYLIGHT
BEGIN:STANDARD
TZOFFSETFROM:-0700
TZOFFSETTO:-0800
TZNAME:PST
DTSTART:20261101T090000
END:STANDARD
BEGIN:DAYLIGHT
TZOFFSETFROM:-0800
TZOFFSETTO:-0700
TZNAME:PDT
DTSTART:20270314T100000
END:DAYLIGHT
BEGIN:STANDARD
TZOFFSETFROM:-0700
TZOFFSETTO:-0800
TZNAME:PST
DTSTART:20271107T090000
END:STANDARD
END:VTIMEZONE
BEGIN:VEVENT
DTSTART;TZID=America/Los_Angeles:20260225T120000
DTEND;TZID=America/Los_Angeles:20260225T133000
DTSTAMP:20260425T122332
CREATED:20260224T214400Z
LAST-MODIFIED:20260224T215106Z
UID:10000050-1772020800-1772026200@oregonhospice.org
SUMMARY:Developing\, Updating\, Implementing Effective Hospice Plan of Care
DESCRIPTION:Developing\, Updating & Implementing an Effective Hospice Plan of Care\nAn effective plan of care guides hospice care delivery and meets regulatory requirements.\n\nThe interdisciplinary group establishes the plan\, incorporating input from the patient\, family\, attending physician\, and team members to ensure comprehensive\, measurable outcomes. Join this in-depth session for guidance on developing and updating an individualized hospice plan of care that will address evolving patient and caregiver needs.\nKEY WEBINAR TAKEAWAYS\n\n\nIndividualized plan of care that addresses all required elements and patient needs including problems\, interventions\, and goals\nDocumentation that contributes to the ongoing plan of care\nPatient education to support palliation and management of symptoms and safe care delivery\n\n\n\n\n\n\n\n\nWEBINAR DETAILS\n\nAn effective plan of care is essential to guide care delivery and meet regulatory requirements. This session will take a deep dive into the hospice plan of care from initial development through the hospice election. The discussion will explore the development of patient-specific S.M.A.R.T. goals that address all patient problems and guide clinicians through the development of and updates to an individualized hospice plan of care to meet patient/caregiver needs throughout the hospice election.\n\n\n\nTHE OHPCA PARTNERS WITH HOSPICE & HOME CARE WEBINAR NETWORK PROVIDING EDUCATIONAL OFFERINGS AT A DISCOUNT TO OHPCA MEMBERS. TO LEARN MORE ABOUT ACCESSING THESE WEBINARS\, PLEASE VISIT THE HOSPICE & HOME CARE WEBINAR NETWORK FAQ PAGE:Webinar Support | Hospice Agency Webinar | HHWN
URL:https://oregonhospice.org/event/developing-updating-implementing-effective-hospice-plan-of-care/
END:VEVENT
END:VCALENDAR