BEGIN:VCALENDAR
VERSION:2.0
PRODID:-//oregonhospice.org - ECPv6.15.20//NONSGML v1.0//EN
CALSCALE:GREGORIAN
METHOD:PUBLISH
X-WR-CALNAME:oregonhospice.org
X-ORIGINAL-URL:https://oregonhospice.org
X-WR-CALDESC:Events for oregonhospice.org
REFRESH-INTERVAL;VALUE=DURATION:PT1H
X-Robots-Tag:noindex
X-PUBLISHED-TTL:PT1H
BEGIN:VTIMEZONE
TZID:America/Los_Angeles
BEGIN:DAYLIGHT
TZOFFSETFROM:-0800
TZOFFSETTO:-0700
TZNAME:PDT
DTSTART:20250309T100000
END:DAYLIGHT
BEGIN:STANDARD
TZOFFSETFROM:-0700
TZOFFSETTO:-0800
TZNAME:PST
DTSTART:20251102T090000
END:STANDARD
BEGIN:DAYLIGHT
TZOFFSETFROM:-0800
TZOFFSETTO:-0700
TZNAME:PDT
DTSTART:20260308T100000
END:DAYLIGHT
BEGIN:STANDARD
TZOFFSETFROM:-0700
TZOFFSETTO:-0800
TZNAME:PST
DTSTART:20261101T090000
END:STANDARD
BEGIN:DAYLIGHT
TZOFFSETFROM:-0800
TZOFFSETTO:-0700
TZNAME:PDT
DTSTART:20270314T100000
END:DAYLIGHT
BEGIN:STANDARD
TZOFFSETFROM:-0700
TZOFFSETTO:-0800
TZNAME:PST
DTSTART:20271107T090000
END:STANDARD
END:VTIMEZONE
BEGIN:VEVENT
DTSTART;TZID=America/Los_Angeles:20260226T120000
DTEND;TZID=America/Los_Angeles:20260226T133000
DTSTAMP:20260425T122355
CREATED:20260224T214915Z
LAST-MODIFIED:20260224T220802Z
UID:10000051-1772107200-1772112600@oregonhospice.org
SUMMARY:Artificial Intelligence (AI) Risks & Rules for Healthcare
DESCRIPTION:Artificial Intelligence (AI) Risks & Rules for Healthcare: Using ChatGPT Without Violating HIPAA\, Patient Privacy\, or the Law\nAI can make your hospice or home care business soar — or sink it fast.\n\nUsed wisely\, ChatGPT can boost efficiency\, streamline communications\, and ease administrative burdens. Used carelessly\, it can trigger HIPAA violations\, privacy breaches\, and serious reputational damage. Learn how to harness AI’s power safely and responsibly without putting your patients\, your staff\, or your organization at risk.\nKEY WEBINAR TAKEAWAYS\n\n\nManaging ChatGPT risks\, rules\, records\, and regulations with best practices-based AI policy\nLimiting AI-related discrimination claims\, HIPAA violations\, privacy breaches\, and HR disasters\nUsing Chat GPT to communicate effectively and compliantly with patients\, peers\, and the public\nHow to preserve and protect PHI\, business records\, and confidential information in the age of AI\n\n\n\n\n\n\n\n\nBONUS MATERIALS\n\n\n\nAI rules: Guidelines for Creating Effective AI Policy & Procedures\nSample Confidential & Sensitive Information Policy for the healthcare industry\nRecords retention rules: Best Practices for Preserving\, Protecting\, Producing & Purging E-Business Records\n\n\n\n\n\n\n\nWEBINAR DETAILS\n\n\nManaged properly\, AI can enhance productivity\, facilitate communications\, speed repetitive tasks\, and reduce administrative burdens. Left unmanaged\, however\, ChatGPT and other AI tools can land you in legal\, regulatory\, and organizational hot water. False\, defamatory\, and otherwise offensive ChatGPT content can damage your business brand and patient relationships. Biased AI talent-acquisition software can violate federal\, state\, and local anti-discrimination laws designed to protect employees and job applicants. Using AI to enter patient data and conversations in your electronic records system could violate patient privacy and trigger HIPAA fines.\n\nThis comprehensive program will look at AI/ChatGPT risks\, rules\, and regulations facing hospice and home care companies. You’ll learn to use best practices-based AI policy\, training\, and tech tools to manage ChatGPT use and help stave off discrimination claims\, malicious intruder attacks\, HR nightmares\, and other potentially costly risks. You’ll leave with tips\, tools\, and other valuable resources to help minimize AI/ChatGPT risks\, manage content and use\, and maximize compliance with HIPAA and the courts.\n\n\n\n\nTHE OHPCA PARTNERS WITH HOSPICE & HOME CARE WEBINAR NETWORK PROVIDING EDUCATIONAL OFFERINGS AT A DISCOUNT TO OHPCA MEMBERS. TO LEARN MORE ABOUT ACCESSING THESE WEBINARS\, PLEASE VISIT THE HOSPICE & HOME CARE WEBINAR NETWORK FAQ PAGE: Webinar Support | Hospice Agency Webinar | HHWN
URL:https://oregonhospice.org/event/artificial-intelligence-ai-risks-rules-for-healthcare/
END:VEVENT
END:VCALENDAR