BEGIN:VCALENDAR
VERSION:2.0
PRODID:-//oregonhospice.org - ECPv6.15.20//NONSGML v1.0//EN
CALSCALE:GREGORIAN
METHOD:PUBLISH
X-ORIGINAL-URL:https://oregonhospice.org
X-WR-CALDESC:Events for oregonhospice.org
REFRESH-INTERVAL;VALUE=DURATION:PT1H
X-Robots-Tag:noindex
X-PUBLISHED-TTL:PT1H
BEGIN:VTIMEZONE
TZID:America/Los_Angeles
BEGIN:DAYLIGHT
TZOFFSETFROM:-0800
TZOFFSETTO:-0700
TZNAME:PDT
DTSTART:20250309T100000
END:DAYLIGHT
BEGIN:STANDARD
TZOFFSETFROM:-0700
TZOFFSETTO:-0800
TZNAME:PST
DTSTART:20251102T090000
END:STANDARD
BEGIN:DAYLIGHT
TZOFFSETFROM:-0800
TZOFFSETTO:-0700
TZNAME:PDT
DTSTART:20260308T100000
END:DAYLIGHT
BEGIN:STANDARD
TZOFFSETFROM:-0700
TZOFFSETTO:-0800
TZNAME:PST
DTSTART:20261101T090000
END:STANDARD
BEGIN:DAYLIGHT
TZOFFSETFROM:-0800
TZOFFSETTO:-0700
TZNAME:PDT
DTSTART:20270314T100000
END:DAYLIGHT
BEGIN:STANDARD
TZOFFSETFROM:-0700
TZOFFSETTO:-0800
TZNAME:PST
DTSTART:20271107T090000
END:STANDARD
END:VTIMEZONE
BEGIN:VEVENT
DTSTART;TZID=America/Los_Angeles:20260303T120000
DTEND;TZID=America/Los_Angeles:20260303T130000
DTSTAMP:20260425T122459
CREATED:20260224T215402Z
LAST-MODIFIED:20260224T215402Z
UID:10000052-1772539200-1772542800@oregonhospice.org
SUMMARY:Self-Aware\, Self-Assured: The First Step to Unstoppable Leadership
DESCRIPTION:Self-Aware\, Self-Assured: The First Step to Unstoppable Leadership\n\n\nReady to lead with clarity and confidence?\n\n\nJoin us in this high-impact session that will dive into three essential self-awareness competencies at the core of emotional intelligence: emotional self-awareness\, accurate self-assessment\, and self-confidence. Learn to recognize emotional triggers\, evaluate strengths and blind spots more honestly\, and show up with greater confidence in challenging situations.\nKEY WEBINAR TAKEAWAYS\n\n\nSelf-awareness is the foundation of emotional intelligence and a key driver of leadership effectiveness and performance\nEmotional intelligence is not “soft” — it is strategic\, measurable\, and directly impacts results\nMost leaders have blind spots that quietly erode trust\, communication\, and culture if left unaddressed\nSelf-awareness can be developed through practical tools that improve decisions\, confidence\, and leadership impact\n\n\n\n\n\n\n\n\n\nBONUS MATERIALS\n\n\n\nResource guide\nOverview of key concepts\n\n\n\n\n\n\n\nWEBINAR DETAILS\n\n\nJoin us to explore the three critical competencies of self-awareness — emotional self-awareness\, accurate self-assessment\, and self-confidence — each of which plays a pivotal role in this first quadrant of emotional intelligence. Emotional self-awareness is the ability to recognize and understand your emotions as they arise\, helping you navigate your reactions and make intentional decisions. Accurate self-assessment takes this further by enabling you to assess your strengths\, weaknesses\, and areas for growth with objectivity and clarity\, paving the way for continuous improvement. Finally\, we’ll explore the competency of self-confidence\, which empowers you to trust in your abilities and take on challenges with a positive mindset. Gain actionable tools to strengthen your resilience\, lead authentically\, and connect more deeply with others. Mastering these skills lays the foundation for greater personal and professional success.\n\n\nTHE OHPCA PARTNERS WITH HOSPICE & HOME CARE WEBINAR NETWORK PROVIDING EDUCATIONAL OFFERINGS AT A DISCOUNT TO OHPCA MEMBERS. TO LEARN MORE ABOUT ACCESSING THESE WEBINARS\, PLEASE VISIT THE HOSPICE & HOME CARE WEBINAR NETWORK FAQ PAGE:Webinar Support | Hospice Agency Webinar | HHWN
URL:https://oregonhospice.org/event/self-aware-self-assured-the-first-step-to-unstoppable-leadership/
END:VEVENT
END:VCALENDAR