BEGIN:VCALENDAR
VERSION:2.0
PRODID:-//oregonhospice.org - ECPv6.15.20//NONSGML v1.0//EN
CALSCALE:GREGORIAN
METHOD:PUBLISH
X-ORIGINAL-URL:https://oregonhospice.org
X-WR-CALDESC:Events for oregonhospice.org
REFRESH-INTERVAL;VALUE=DURATION:PT1H
X-Robots-Tag:noindex
X-PUBLISHED-TTL:PT1H
BEGIN:VTIMEZONE
TZID:America/Los_Angeles
BEGIN:DAYLIGHT
TZOFFSETFROM:-0800
TZOFFSETTO:-0700
TZNAME:PDT
DTSTART:20250309T100000
END:DAYLIGHT
BEGIN:STANDARD
TZOFFSETFROM:-0700
TZOFFSETTO:-0800
TZNAME:PST
DTSTART:20251102T090000
END:STANDARD
BEGIN:DAYLIGHT
TZOFFSETFROM:-0800
TZOFFSETTO:-0700
TZNAME:PDT
DTSTART:20260308T100000
END:DAYLIGHT
BEGIN:STANDARD
TZOFFSETFROM:-0700
TZOFFSETTO:-0800
TZNAME:PST
DTSTART:20261101T090000
END:STANDARD
BEGIN:DAYLIGHT
TZOFFSETFROM:-0800
TZOFFSETTO:-0700
TZNAME:PDT
DTSTART:20270314T100000
END:DAYLIGHT
BEGIN:STANDARD
TZOFFSETFROM:-0700
TZOFFSETTO:-0800
TZNAME:PST
DTSTART:20271107T090000
END:STANDARD
END:VTIMEZONE
BEGIN:VEVENT
DTSTART;TZID=America/Los_Angeles:20260304T120000
DTEND;TZID=America/Los_Angeles:20260304T133000
DTSTAMP:20260425T135143
CREATED:20260224T220122Z
LAST-MODIFIED:20260224T220122Z
UID:10000053-1772625600-1772631000@oregonhospice.org
SUMMARY:2026 Emotional Intelligence Series
DESCRIPTION:2026 Emotional Intelligence Series\n\n\nUnlock the power of Emotional Intelligence in this 4-part webinar series designed to elevate your leadership and personal impact.\nStart by mastering self-awareness\, the cornerstone of understanding your emotions and making intentional decisions. Then learn self-management strategies to navigate challenges\, stay resilient\, and align actions with your goals. Dive into social awareness to connect deeply\, anticipate needs\, and foster trust with those around you. Finally\, harness relationship management tools to lead effectively\, inspire collaboration\, and transform every interaction into an opportunity for influence and growth.\n\n\n\n\n\nPurchase webinars individually or buy the whole series to save 15%!\n\n\n\n\nEMOTIONAL INTELLIGENCE SERIES TOPICS\n\n60-minute webinars available live or on-demand\n\n\nSelf-Aware\, Self-Assured: The First Step to Unstoppable Leadership\nCalm\, Clear & in Control: The Leader’s Guide to Emotional Self-Mastery\nCalm\, Clear & in Control: The Leader Who Listens: Harnessing Social Awareness to Inspire & Influence\nThe Power of Connection:10 Key Competencies of Relationship Management\n\n\n\n\n\n\n\n\n\n\nTHE OHPCA PARTNERS WITH HOSPICE & HOME CARE WEBINAR NETWORK PROVIDING EDUCATIONAL OFFERINGS AT A DISCOUNT TO OHPCA MEMBERS. TO LEARN MORE ABOUT ACCESSING THESE WEBINARS\, PLEASE VISIT THE HOSPICE & HOME CARE WEBINAR NETWORK FAQ PAGE: Webinar Support | Hospice Agency Webinar | HHWN
URL:https://oregonhospice.org/event/2026-emotional-intelligence-series/
END:VEVENT
BEGIN:VEVENT
DTSTART;TZID=America/Los_Angeles:20260304T120000
DTEND;TZID=America/Los_Angeles:20260304T133000
DTSTAMP:20260425T135143
CREATED:20260224T220335Z
LAST-MODIFIED:20260224T221413Z
UID:10000054-1772625600-1772631000@oregonhospice.org
SUMMARY:Hospice Volunteer Program Roles\, Requirements\, Recruitment & More
DESCRIPTION:Hospice Volunteer Program Roles\, Requirements\, Recruitment & More\n\n\nHospice volunteers are a core service\, not a “nice to have.”\n\n\n\nIs your program strong enough to withstand the next surveyor’s questions? This focused webinar will walk hospice leaders and volunteer managers through today’s expectations for a fully functioning volunteer program\, including the 5% requirement\, qualifying activities\, and current surveyor hot buttons. Learn the defined roles of the volunteer director/manager and volunteers\, what does and does not qualify toward the 5%\, and the core elements of a Medicare-compliant volunteer training program.\nKEY WEBINAR TAKEAWAYS\n\n\nRegulations related to a hospice volunteer program\nWhat volunteer activities to include in the 5% cost savings requirement\nBest practices for tracking volunteer hours to meet regulatory requirements\nEnhancing the use of volunteer services through IDT/IDG representation\n\n\n\n\n\n\n\n\n\n\nBONUS MATERIALS\n\n\n\nVolunteer director/coordinator job description\nVolunteer job description\nVolunteer cost savings P&P guidelines\nTracking and Reporting Volunteer Activities (The Health Group\, LLC)\n\n\n\n\n\n\n\nWEBINAR DETAILS\n\n\nThe hospice volunteer program is a core hospice service. This invaluable session will cover the roles of the volunteer director/coordinator and volunteers. Join us for a deep dive on the 5% requirement (including what qualifies)\, training\, recruitment\, and best practices. Frequently asked questions about volunteer activities\, files\, mileage\, and other compliance considerations will be addressed\, ensuring volunteers effectively support patient care while meeting regulatory standards.\n\n\n\n\n\n\n\n\n\n\nTHE OHPCA PARTNERS WITH HOSPICE & HOME CARE WEBINAR NETWORK PROVIDING EDUCATIONAL OFFERINGS AT A DISCOUNT TO OHPCA MEMBERS. TO LEARN MORE ABOUT ACCESSING THESE WEBINARS\, PLEASE VISIT THE HOSPICE & HOME CARE WEBINAR NETWORK FAQ PAGE: Webinar Support | Hospice Agency Webinar | HHWN
URL:https://oregonhospice.org/event/hospice-volunteer-program-roles-requirements-recruitment-more/
END:VEVENT
END:VCALENDAR