BEGIN:VCALENDAR
VERSION:2.0
PRODID:-//oregonhospice.org - ECPv6.15.20//NONSGML v1.0//EN
CALSCALE:GREGORIAN
METHOD:PUBLISH
X-WR-CALNAME:oregonhospice.org
X-ORIGINAL-URL:https://oregonhospice.org
X-WR-CALDESC:Events for oregonhospice.org
REFRESH-INTERVAL;VALUE=DURATION:PT1H
X-Robots-Tag:noindex
X-PUBLISHED-TTL:PT1H
BEGIN:VTIMEZONE
TZID:America/Los_Angeles
BEGIN:DAYLIGHT
TZOFFSETFROM:-0800
TZOFFSETTO:-0700
TZNAME:PDT
DTSTART:20250309T100000
END:DAYLIGHT
BEGIN:STANDARD
TZOFFSETFROM:-0700
TZOFFSETTO:-0800
TZNAME:PST
DTSTART:20251102T090000
END:STANDARD
BEGIN:DAYLIGHT
TZOFFSETFROM:-0800
TZOFFSETTO:-0700
TZNAME:PDT
DTSTART:20260308T100000
END:DAYLIGHT
BEGIN:STANDARD
TZOFFSETFROM:-0700
TZOFFSETTO:-0800
TZNAME:PST
DTSTART:20261101T090000
END:STANDARD
BEGIN:DAYLIGHT
TZOFFSETFROM:-0800
TZOFFSETTO:-0700
TZNAME:PDT
DTSTART:20270314T100000
END:DAYLIGHT
BEGIN:STANDARD
TZOFFSETFROM:-0700
TZOFFSETTO:-0800
TZNAME:PST
DTSTART:20271107T090000
END:STANDARD
END:VTIMEZONE
BEGIN:VEVENT
DTSTART;TZID=America/Los_Angeles:20260305T120000
DTEND;TZID=America/Los_Angeles:20260305T133000
DTSTAMP:20260425T122352
CREATED:20260224T220648Z
LAST-MODIFIED:20260224T220648Z
UID:10000056-1772712000-1772717400@oregonhospice.org
SUMMARY:Hope Is Not a Strategy
DESCRIPTION:Hope Is Not a Strategy\n\n\nAt a crossroads\, one nonprofit hospice redefined its future by trading outdated 5 year strategic cycles for a dynamic\, annually updated planning process.\n\nThis session will walk you through that transformative journey from case study and methodology to deployment and execution — showing how a living strategic plan can fuel mission‑driven success in today’s complex hospice and healthcare environment. Learn how rolling operating plans turn strategy into action\, driving year‑over‑year gains in quality\, growth\, and financial performance while keeping your organization agile\, aligned\, and ready for what’s next. \n\nKEY WEBINAR TAKEAWAYS\n\n\nHow a North Star strategy will enable the organization to better achieve its mission and business objectives\nDifferentiate and integrate strategic planning\, annual operating plans\, growth and marketing plans\, and the budget\nApplying a Hoshin Planning approach to a simple one-\, two-\, and three-step planning process\nThe planning process as a vital and important board and leadership development and education activity\n\n\n\n\n\n\n\n\nBONUS MATERIALS\n\n\n\nCase study for nonprofit hospice organizations doing strategic planning\n\n\n\n\n\n\n\nWEBINAR DETAILS\n\n\nToday’s Strategy Planning (SP) process is not your father’s SP process!  SP used to be a 3-to-5-year planning window.  This is obsolete in today’s environment.  Now\, SP is all about creating annual rolling operating plans that are updated yearly and are truly helpful tools to assist hospice organizations navigate a complex environment and strengthen performance in the areas of quality\, growth\, and finance.\nThis webinar will demonstrate an SP development and deployment process for a nonprofit hospice company that was at a crossroads in its development as an end-of-life provider.  Shared will be the journey taken through the SP process\, methodologies used\, a framework for the strategic plan\, and benefits accrued from the process.
URL:https://oregonhospice.org/event/hope-is-not-a-strategy/
END:VEVENT
END:VCALENDAR