BEGIN:VCALENDAR
VERSION:2.0
PRODID:-//oregonhospice.org - ECPv6.15.20//NONSGML v1.0//EN
CALSCALE:GREGORIAN
METHOD:PUBLISH
X-ORIGINAL-URL:https://oregonhospice.org
X-WR-CALDESC:Events for oregonhospice.org
REFRESH-INTERVAL;VALUE=DURATION:PT1H
X-Robots-Tag:noindex
X-PUBLISHED-TTL:PT1H
BEGIN:VTIMEZONE
TZID:America/Los_Angeles
BEGIN:DAYLIGHT
TZOFFSETFROM:-0800
TZOFFSETTO:-0700
TZNAME:PDT
DTSTART:20250309T100000
END:DAYLIGHT
BEGIN:STANDARD
TZOFFSETFROM:-0700
TZOFFSETTO:-0800
TZNAME:PST
DTSTART:20251102T090000
END:STANDARD
BEGIN:DAYLIGHT
TZOFFSETFROM:-0800
TZOFFSETTO:-0700
TZNAME:PDT
DTSTART:20260308T100000
END:DAYLIGHT
BEGIN:STANDARD
TZOFFSETFROM:-0700
TZOFFSETTO:-0800
TZNAME:PST
DTSTART:20261101T090000
END:STANDARD
BEGIN:DAYLIGHT
TZOFFSETFROM:-0800
TZOFFSETTO:-0700
TZNAME:PDT
DTSTART:20270314T100000
END:DAYLIGHT
BEGIN:STANDARD
TZOFFSETFROM:-0700
TZOFFSETTO:-0800
TZNAME:PST
DTSTART:20271107T090000
END:STANDARD
END:VTIMEZONE
BEGIN:VEVENT
DTSTART;TZID=America/Los_Angeles:20260311T120000
DTEND;TZID=America/Los_Angeles:20260311T130000
DTSTAMP:20260425T122500
CREATED:20260224T221448Z
LAST-MODIFIED:20260224T221511Z
UID:10000057-1773230400-1773234000@oregonhospice.org
SUMMARY:Driving Growth & Quality Through Family Caregiver Communication
DESCRIPTION:Driving Growth & Quality Through Family Caregiver Communication\n\n\n\n\nDespite the vital role that family caregivers play in patient outcomes and experience\, as well as agency growth\, many organizations still depend on fragmented and reactive communication.\n\nJoin this practical webinar to learn how leading hospice\, home health\, and palliative care agencies transform caregiver engagement into a measurable advantage. Discover how modernizing caregiver communication strengthens both quality and growth while supporting staff capacity. Family connection is not an afterthought — it is a strategic priority.\nKEY WEBINAR TAKEAWAYS\n\n\nA clear framework for engaging family caregivers across the care continuum — from admission through discharge and bereavement\nPractical strategies to use caregiver communication to increase CAHPS response rates and improve scores\nReal-world examples of how agencies are operationalizing family engagement without adding burden to staff\nInsight into how family feedback and communication can directly support growth\, reputation\, and quality outcomes\n\n\n\n\n\n\n\n\nBONUS MATERIALS\n\n\n\nA family caregiver communication checklist (from admission through post-death follow-up)\nA sample family engagement workflow aligned with hospice and home health operations\n\n\n\n\n\n\n\nWEBINAR DETAILS\n\nFamily caregivers play a critical and often overlooked role in driving quality outcomes\, enhancing patient experience\, and supporting agency growth. Many hospice\, home health\, and palliative care organizations still rely on fragmented\, manual\, and reactive communication with families. In this webinar\, Cara Abbott\, founder of Betterleave\, will explore how leading agencies modernize family caregiver communication to achieve measurable improvements in CAHPS scores\, reduce rehospitalizations\, and strengthen their reputation within the community. Through practical frameworks and real-world examples\, attendees will learn how intentional\, timely\, and compassionate family communication serves as a strategic lever for both quality and sustainable growth — while supporting already stretched care teams.\n\n\n\nTHE OHPCA PARTNERS WITH HOSPICE & HOME CARE WEBINAR NETWORK PROVIDING EDUCATIONAL OFFERINGS AT A DISCOUNT TO OHPCA MEMBERS. TO LEARN MORE ABOUT ACCESSING THESE WEBINARS\, PLEASE VISIT THE HOSPICE & HOME CARE WEBINAR NETWORK FAQ PAGE: Webinar Support | Hospice Agency Webinar | HHWN
URL:https://oregonhospice.org/event/driving-growth-quality-through-family-caregiver-communication/
END:VEVENT
END:VCALENDAR