BEGIN:VCALENDAR
VERSION:2.0
PRODID:-//oregonhospice.org - ECPv6.15.20//NONSGML v1.0//EN
CALSCALE:GREGORIAN
METHOD:PUBLISH
X-WR-CALNAME:oregonhospice.org
X-ORIGINAL-URL:https://oregonhospice.org
X-WR-CALDESC:Events for oregonhospice.org
REFRESH-INTERVAL;VALUE=DURATION:PT1H
X-Robots-Tag:noindex
X-PUBLISHED-TTL:PT1H
BEGIN:VTIMEZONE
TZID:America/Los_Angeles
BEGIN:DAYLIGHT
TZOFFSETFROM:-0800
TZOFFSETTO:-0700
TZNAME:PDT
DTSTART:20250309T100000
END:DAYLIGHT
BEGIN:STANDARD
TZOFFSETFROM:-0700
TZOFFSETTO:-0800
TZNAME:PST
DTSTART:20251102T090000
END:STANDARD
BEGIN:DAYLIGHT
TZOFFSETFROM:-0800
TZOFFSETTO:-0700
TZNAME:PDT
DTSTART:20260308T100000
END:DAYLIGHT
BEGIN:STANDARD
TZOFFSETFROM:-0700
TZOFFSETTO:-0800
TZNAME:PST
DTSTART:20261101T090000
END:STANDARD
BEGIN:DAYLIGHT
TZOFFSETFROM:-0800
TZOFFSETTO:-0700
TZNAME:PDT
DTSTART:20270314T100000
END:DAYLIGHT
BEGIN:STANDARD
TZOFFSETFROM:-0700
TZOFFSETTO:-0800
TZNAME:PST
DTSTART:20271107T090000
END:STANDARD
END:VTIMEZONE
BEGIN:VEVENT
DTSTART;TZID=America/Los_Angeles:20260331T120000
DTEND;TZID=America/Los_Angeles:20260331T133000
DTSTAMP:20260425T094956
CREATED:20260224T222938Z
LAST-MODIFIED:20260224T223000Z
UID:10000064-1774958400-1774963800@oregonhospice.org
SUMMARY:Medicare Audit Survival: Review Notice Arrival
DESCRIPTION:Medicare Audit Survival: What to Do When the Review Notice Arrives for TPE\, ARD & SMRC\n\n\n\n\n\n\nWhen a Medicare audit notice lands\, every decision counts.\n\nFrom TPE and SMRC to ARD reviews\, administrators need a clear plan — not panic. This thorough session will provide you with a roadmap to respond strategically\, organize documentation fast\, and communicate effectively with auditors. Join us to build a confident\, audit‑ready strategy — before the next notice arrives.\nKEY WEBINAR TAKEAWAYS\n\n\nHow to apply a structured response plan when an audit notice arrives\nThe immediate steps leadership should take upon receipt of a review notice\, including timelines\, roles\, and documentation readiness\nStrengthening hospice eligibility and compliance processes\nPractical strategies to ensure documentation supports Medicare conditions of payment\, including billing requirements\, hospice eligibility\, clinical decline\, and plan of care in alignment with Medicare requirements\nLeadership-level strategies to minimize financial and operational risk\nHow to communicate effectively with auditors\, oversee audit activity\, and use audit findings to improve compliance and reduce future audit vulnerability\n\n\n\n\n\n\n\n\nBONUS MATERIALS\n\n\n\nComplimentary 30-minute consultation with the presenter\n\n\n\n\n\n\n\nWEBINAR DETAILS\n\n\nReceiving a Medicare audit notice can feel overwhelming — but with the right strategies\, your organization can respond with confidence and protect revenue. This webinar is designed specifically for administrators who need to understand the audit landscape\, from SMRC and TPE to other types of medical reviews. Join expert Jen Kiehl-Miller as she guides you through the steps to take from the moment a review notice arrives\, how to prepare and organize your documentation\, and the best ways to communicate with auditors. You will gain practical insights to avoid costly mistakes\, strengthen compliance\, and minimize financial risk.\nDo not wait until an audit happens — arm yourself and your team with the knowledge to stay audit-ready\, safeguard your organization\, and maintain peace of mind.\n\n\n\n\n\n\n\n\n\n\n\n\n\nTHE OHPCA PARTNERS WITH HOSPICE & HOME CARE WEBINAR NETWORK PROVIDING EDUCATIONAL OFFERINGS AT A DISCOUNT TO OHPCA MEMBERS. TO LEARN MORE ABOUT ACCESSING THESE WEBINARS\, PLEASE VISIT THE HOSPICE & HOME CARE WEBINAR NETWORK FAQ PAGE: Webinar Support | Hospice Agency Webinar | HHWN
URL:https://oregonhospice.org/event/medicare-audit-survival-what-to-do-when-the-review-notice-arrives/
END:VEVENT
END:VCALENDAR