BEGIN:VCALENDAR
VERSION:2.0
PRODID:-//oregonhospice.org - ECPv6.15.20//NONSGML v1.0//EN
CALSCALE:GREGORIAN
METHOD:PUBLISH
X-WR-CALNAME:oregonhospice.org
X-ORIGINAL-URL:https://oregonhospice.org
X-WR-CALDESC:Events for oregonhospice.org
REFRESH-INTERVAL;VALUE=DURATION:PT1H
X-Robots-Tag:noindex
X-PUBLISHED-TTL:PT1H
BEGIN:VTIMEZONE
TZID:America/Los_Angeles
BEGIN:DAYLIGHT
TZOFFSETFROM:-0800
TZOFFSETTO:-0700
TZNAME:PDT
DTSTART:20250309T100000
END:DAYLIGHT
BEGIN:STANDARD
TZOFFSETFROM:-0700
TZOFFSETTO:-0800
TZNAME:PST
DTSTART:20251102T090000
END:STANDARD
BEGIN:DAYLIGHT
TZOFFSETFROM:-0800
TZOFFSETTO:-0700
TZNAME:PDT
DTSTART:20260308T100000
END:DAYLIGHT
BEGIN:STANDARD
TZOFFSETFROM:-0700
TZOFFSETTO:-0800
TZNAME:PST
DTSTART:20261101T090000
END:STANDARD
BEGIN:DAYLIGHT
TZOFFSETFROM:-0800
TZOFFSETTO:-0700
TZNAME:PDT
DTSTART:20270314T100000
END:DAYLIGHT
BEGIN:STANDARD
TZOFFSETFROM:-0700
TZOFFSETTO:-0800
TZNAME:PST
DTSTART:20271107T090000
END:STANDARD
END:VTIMEZONE
BEGIN:VEVENT
DTSTART;TZID=America/Los_Angeles:20260401T120000
DTEND;TZID=America/Los_Angeles:20260401T133000
DTSTAMP:20260425T094927
CREATED:20260330T173817Z
LAST-MODIFIED:20260330T173940Z
UID:10000078-1775044800-1775050200@oregonhospice.org
SUMMARY:HHWN WEBINAR - Support Terminality\, Meet Guidelines & Regulations
DESCRIPTION:Documentation to Support Terminality & Meet Guidelines & Regulations\n\n\n\n\n\n\n\n\nTurn documentation challenges into compliance confidence!\n\nAccurate documentation is key to supporting terminality and meeting hospice regulations. Attend this focused webinar to receive practical guidance through clear examples and real-world tips on how to document key technical and clinical details that back hospice eligibility\, reduce denials\, and boost compliance confidence — all while making your charting process easier and more defensible.\n \nKEY WEBINAR TAKEAWAYS\n\n\nCritical nature of documented baseline assessments\nHow to document progressive decline in comparative assessment summaries\nChronic vs terminal disease states\nHow to document to support terminality and meet the regulations\n\n\n\n\n\n\n\n\nBONUS MATERIALS\n\n\n\nAudit tool to help agencies evaluate documentation to support terminality and meet regulations\nLCD guidelines\nDisease-specific guidelines\n\n\n\n\n\n\n\nWEBINAR DETAILS\n\nChronic versus terminal documentation continues to challenge hospice providers. This presentation will focus on documenting to support progressive decline and a terminal trajectory while applying the LCDs. Attendees will learn the LCDs and clinical guidelines simplified\, along with key hospice diagnoses and how to document to support Medicare hospice eligibility. The session will concentrate on certification\, recertification\, and the nursing assessment\, and examples will be used to demonstrate how to document in all key technical and clinical areas to support terminality.\n\n\n\n\n\n\n\n\n\n\nTHE OHPCA PARTNERS WITH HOSPICE & HOME CARE WEBINAR NETWORK PROVIDING EDUCATIONAL OFFERINGS AT A DISCOUNT TO OHPCA MEMBERS. TO LEARN MORE ABOUT ACCESSING THESE WEBINARS\, PLEASE VISIT THE HOSPICE & HOME CARE WEBINAR NETWORK FAQ PAGE: Webinar Support | Hospice Agency Webinar | HHWN
URL:https://oregonhospice.org/event/hhwn-webinar-support-terminality-meet-guidelines-regulations/
END:VEVENT
END:VCALENDAR