BEGIN:VCALENDAR
VERSION:2.0
PRODID:-//oregonhospice.org - ECPv6.15.20//NONSGML v1.0//EN
CALSCALE:GREGORIAN
METHOD:PUBLISH
X-WR-CALNAME:oregonhospice.org
X-ORIGINAL-URL:https://oregonhospice.org
X-WR-CALDESC:Events for oregonhospice.org
REFRESH-INTERVAL;VALUE=DURATION:PT1H
X-Robots-Tag:noindex
X-PUBLISHED-TTL:PT1H
BEGIN:VTIMEZONE
TZID:America/Los_Angeles
BEGIN:DAYLIGHT
TZOFFSETFROM:-0800
TZOFFSETTO:-0700
TZNAME:PDT
DTSTART:20250309T100000
END:DAYLIGHT
BEGIN:STANDARD
TZOFFSETFROM:-0700
TZOFFSETTO:-0800
TZNAME:PST
DTSTART:20251102T090000
END:STANDARD
BEGIN:DAYLIGHT
TZOFFSETFROM:-0800
TZOFFSETTO:-0700
TZNAME:PDT
DTSTART:20260308T100000
END:DAYLIGHT
BEGIN:STANDARD
TZOFFSETFROM:-0700
TZOFFSETTO:-0800
TZNAME:PST
DTSTART:20261101T090000
END:STANDARD
BEGIN:DAYLIGHT
TZOFFSETFROM:-0800
TZOFFSETTO:-0700
TZNAME:PDT
DTSTART:20270314T100000
END:DAYLIGHT
BEGIN:STANDARD
TZOFFSETFROM:-0700
TZOFFSETTO:-0800
TZNAME:PST
DTSTART:20271107T090000
END:STANDARD
END:VTIMEZONE
BEGIN:VEVENT
DTSTART;TZID=America/Los_Angeles:20260402T120000
DTEND;TZID=America/Los_Angeles:20260402T130000
DTSTAMP:20260425T094851
CREATED:20260330T175926Z
LAST-MODIFIED:20260330T180047Z
UID:10000081-1775131200-1775134800@oregonhospice.org
SUMMARY:HHWN WEBINAR: Eliminating Gossip\, Negativity & Mistrust at Work
DESCRIPTION:Leave the drama for the big screen — your workplace deserves better than gossip\, negativity\, and mistrust.\n\nDesigned for leaders who want less noise and more execution\, this practical session will provide actionable strategies to replace emotional reactivity with clarity\, consistency\, and accountability. Participants will leave with a repeatable playbook that can be applied immediately to reduce friction\, strengthen trust\, and create a culture where energy is spent on progress\, not problems — and where leadership presence drives measurable results.\n\nKEY WEBINAR TAKEAWAYS\n\n\nDiagnosing drama quickly and accurately\nInterrupting drama in the moment with confidence\nReplacing drama with clear leadership standards and tools\nModeling leadership behaviors that prevent drama from returning\n\n\n\n\n\n\n\nBONUS MATERIALS\n\n\n\nResource guide\nKey concept summary\n\n\n\n\n\n\n\nWEBINAR DETAILS\n\nWorkplace drama does not just affect morale — it quietly erodes productivity\, slows decision-making\, and drains leadership energy that should be focused on results. In this highly engaging webinar\, participants will gain a clear\, practical understanding of how drama shows up in organizations through gossip\, negativity\, and mistrust and how everyday leadership behaviors often unintentionally allow it to persist. You will be equipped with concrete tools\, real-time scripts\, and proven norms you can use to interrupt unproductive behaviors in the moment and redirect conversations toward ownership and solutions.\n\n\n\n\n\nTHE OHPCA PARTNERS WITH HOSPICE & HOME CARE WEBINAR NETWORK PROVIDING EDUCATIONAL OFFERINGS AT A DISCOUNT TO OHPCA MEMBERS. TO LEARN MORE ABOUT ACCESSING THESE WEBINARS\, PLEASE VISIT THE HOSPICE & HOME CARE WEBINAR NETWORK FAQ PAGE: Webinar Support | Hospice Agency Webinar | HHWN
URL:https://oregonhospice.org/event/hhwn-webinar-eliminating-gossip-negativity-mistrust-at-work/
END:VEVENT
END:VCALENDAR