BEGIN:VCALENDAR
VERSION:2.0
PRODID:-//oregonhospice.org - ECPv6.15.20//NONSGML v1.0//EN
CALSCALE:GREGORIAN
METHOD:PUBLISH
X-WR-CALNAME:oregonhospice.org
X-ORIGINAL-URL:https://oregonhospice.org
X-WR-CALDESC:Events for oregonhospice.org
REFRESH-INTERVAL;VALUE=DURATION:PT1H
X-Robots-Tag:noindex
X-PUBLISHED-TTL:PT1H
BEGIN:VTIMEZONE
TZID:America/Los_Angeles
BEGIN:DAYLIGHT
TZOFFSETFROM:-0800
TZOFFSETTO:-0700
TZNAME:PDT
DTSTART:20250309T100000
END:DAYLIGHT
BEGIN:STANDARD
TZOFFSETFROM:-0700
TZOFFSETTO:-0800
TZNAME:PST
DTSTART:20251102T090000
END:STANDARD
BEGIN:DAYLIGHT
TZOFFSETFROM:-0800
TZOFFSETTO:-0700
TZNAME:PDT
DTSTART:20260308T100000
END:DAYLIGHT
BEGIN:STANDARD
TZOFFSETFROM:-0700
TZOFFSETTO:-0800
TZNAME:PST
DTSTART:20261101T090000
END:STANDARD
BEGIN:DAYLIGHT
TZOFFSETFROM:-0800
TZOFFSETTO:-0700
TZNAME:PDT
DTSTART:20270314T100000
END:DAYLIGHT
BEGIN:STANDARD
TZOFFSETFROM:-0700
TZOFFSETTO:-0800
TZNAME:PST
DTSTART:20271107T090000
END:STANDARD
END:VTIMEZONE
BEGIN:VEVENT
DTSTART;TZID=America/Los_Angeles:20260415T120000
DTEND;TZID=America/Los_Angeles:20260415T130000
DTSTAMP:20260425T094957
CREATED:20260330T182516Z
LAST-MODIFIED:20260409T195954Z
UID:10000088-1776254400-1776258000@oregonhospice.org
SUMMARY:HHWN WEBINAR: Supporting Medical Directors & Hospice Physicians
DESCRIPTION:Supporting Medical Directors & Hospice Physicians: Collaboration\, Regulations & Best Practices\nStrengthen confidence in recertification decisions with clear guidance\, collaboration strategies\, and compliance insight. Hospice Medicare eligibility continues to challenge agencies as patients experience longer stays and gradual declines. This webinar will provide practical tools for collaboration between hospice teams\, medical directors\, and hospice physicians to ensure documentation accurately supports terminal eligibility. You will gain actionable strategies to reinforce sound clinical judgment and strengthen interdisciplinary support in the recertification process. \nKEY WEBINAR TAKEAWAYSRole of baseline assessment and comparatives in supporting collaboration and best practicesKey clinical documentation to support collaboration and best practicesKey information to share during IDG to support medical director collaborationCritical data to review prior to IDG \nBONUS MATERIALSCMS Hospice Documentation Checklist ToolHospice Documentation Audit ChecklistLCD GuidelinesSuggestions for Improved Documentation \nWEBINAR DETAILSHospice Medicare eligibility and supporting terminality is critical. Hospice agencies are frequently under pressure for long length of stays — slow\, steady patient declines reflecting more a chronic disease state than terminal. This webinar is intended to help agencies develop tools and best practices to collaborate and support appropriate hospice recertifications\, including documentation. We will discuss how hospice team members can help support medical directors and hospice team physicians to determine whether to recertify. \nTHE OHPCA PARTNERS WITH HOSPICE & HOME CARE WEBINAR NETWORK PROVIDING EDUCATIONAL OFFERINGS AT A DISCOUNT TO OHPCA MEMBERS. TO LEARN MORE ABOUT ACCESSING THESE WEBINARS\, PLEASE VISIT THE HOSPICE & HOME CARE WEBINAR NETWORK FAQ PAGE: Webinar Support | Hospice Agency Webinar | HHWN
URL:https://oregonhospice.org/event/hhwn-webinar-supporting-medical-directors-hospice-physicians/
END:VEVENT
END:VCALENDAR