BEGIN:VCALENDAR
VERSION:2.0
PRODID:-//oregonhospice.org - ECPv6.15.20//NONSGML v1.0//EN
CALSCALE:GREGORIAN
METHOD:PUBLISH
X-WR-CALNAME:oregonhospice.org
X-ORIGINAL-URL:https://oregonhospice.org
X-WR-CALDESC:Events for oregonhospice.org
REFRESH-INTERVAL;VALUE=DURATION:PT1H
X-Robots-Tag:noindex
X-PUBLISHED-TTL:PT1H
BEGIN:VTIMEZONE
TZID:America/Los_Angeles
BEGIN:DAYLIGHT
TZOFFSETFROM:-0800
TZOFFSETTO:-0700
TZNAME:PDT
DTSTART:20250309T100000
END:DAYLIGHT
BEGIN:STANDARD
TZOFFSETFROM:-0700
TZOFFSETTO:-0800
TZNAME:PST
DTSTART:20251102T090000
END:STANDARD
BEGIN:DAYLIGHT
TZOFFSETFROM:-0800
TZOFFSETTO:-0700
TZNAME:PDT
DTSTART:20260308T100000
END:DAYLIGHT
BEGIN:STANDARD
TZOFFSETFROM:-0700
TZOFFSETTO:-0800
TZNAME:PST
DTSTART:20261101T090000
END:STANDARD
BEGIN:DAYLIGHT
TZOFFSETFROM:-0800
TZOFFSETTO:-0700
TZNAME:PDT
DTSTART:20270314T100000
END:DAYLIGHT
BEGIN:STANDARD
TZOFFSETFROM:-0700
TZOFFSETTO:-0800
TZNAME:PST
DTSTART:20271107T090000
END:STANDARD
END:VTIMEZONE
BEGIN:VEVENT
DTSTART;TZID=America/Los_Angeles:20260428T120000
DTEND;TZID=America/Los_Angeles:20260428T133000
DTSTAMP:20260425T094925
CREATED:20260330T183528Z
LAST-MODIFIED:20260409T195641Z
UID:10000093-1777377600-1777383000@oregonhospice.org
SUMMARY:HHWN WEBINAR: The Power of Pausing: Debriefing for Sustainability
DESCRIPTION:The Power of Pausing: Debriefing for Clinician Sustainability\nWitnessing the suffering and distress of patients and families is understandably challenging. Peer-facilitated healthcare debriefings provide time to discuss the impact of the work\, normalize reactions\, and support resilience across careers. This presentation will review evidence that links debriefing programs to reduced staff attrition and healthier coping\, and provide practical steps to design\, implement\, and evaluate a debriefing program that addresses resistance\, secures leadership support\, and promotes equity of practice in any setting. \nKEY WEBINAR TAKEAWAYSNatural consequences of working in healthcare on our emotions and behaviorThe evidence and value of social support to mitigate the harmful effects of this emotional workHealthcare debriefings as an institutionally supported model strategyHow to make the case and implement healthcare debriefings in your workplace \nBONUS MATERIALSMaking the case for debriefingsTraining manual to implement debriefings \nWEBINAR DETAILSHealthcare clinicians\, physicians\, nurses\, social workers\, etc. may experience a variety of emotions related to the work\, including sadness\, frustration\, grief\, guilt\, or isolation. Peer-facilitated healthcare debriefings offer intentional time for providers to talk about the impacts of the work. This evidence-based strategy normalizes\, validates\, and supports providers throughout their work and career. This in turn can directly impact the culture and coping strategies of a group\, unit\, or institution. \nThis workshop will review the strong evidence that supports debriefing programs and highlight the impact they can have on staff attrition. We will discuss the natural\, expectable consequences of working in healthcare and how ongoing debriefings support all staff at any level\, any time during their career. We will then move on to discuss how to design\, implement\, and evaluate a debriefing program. Addressing issues such as institutional resistance\, managerial support\, and equity of practice\, this webinar will leave the participant with a guide to implementing debriefings in their workplace. \nTHE OHPCA PARTNERS WITH HOSPICE & HOME CARE WEBINAR NETWORK PROVIDING EDUCATIONAL OFFERINGS AT A DISCOUNT TO OHPCA MEMBERS. TO LEARN MORE ABOUT ACCESSING THESE WEBINARS\, PLEASE VISIT THE HOSPICE & HOME CARE WEBINAR NETWORK FAQ PAGE: Webinar Support | Hospice Agency Webinar | HHWN
URL:https://oregonhospice.org/event/hhwn-webinar-the-power-of-pausing-debriefing-for-sustainability/
END:VEVENT
END:VCALENDAR