BEGIN:VCALENDAR
VERSION:2.0
PRODID:-//oregonhospice.org - ECPv6.15.20//NONSGML v1.0//EN
CALSCALE:GREGORIAN
METHOD:PUBLISH
X-WR-CALNAME:oregonhospice.org
X-ORIGINAL-URL:https://oregonhospice.org
X-WR-CALDESC:Events for oregonhospice.org
REFRESH-INTERVAL;VALUE=DURATION:PT1H
X-Robots-Tag:noindex
X-PUBLISHED-TTL:PT1H
BEGIN:VTIMEZONE
TZID:America/Los_Angeles
BEGIN:DAYLIGHT
TZOFFSETFROM:-0800
TZOFFSETTO:-0700
TZNAME:PDT
DTSTART:20250309T100000
END:DAYLIGHT
BEGIN:STANDARD
TZOFFSETFROM:-0700
TZOFFSETTO:-0800
TZNAME:PST
DTSTART:20251102T090000
END:STANDARD
BEGIN:DAYLIGHT
TZOFFSETFROM:-0800
TZOFFSETTO:-0700
TZNAME:PDT
DTSTART:20260308T100000
END:DAYLIGHT
BEGIN:STANDARD
TZOFFSETFROM:-0700
TZOFFSETTO:-0800
TZNAME:PST
DTSTART:20261101T090000
END:STANDARD
BEGIN:DAYLIGHT
TZOFFSETFROM:-0800
TZOFFSETTO:-0700
TZNAME:PDT
DTSTART:20270314T100000
END:DAYLIGHT
BEGIN:STANDARD
TZOFFSETFROM:-0700
TZOFFSETTO:-0800
TZNAME:PST
DTSTART:20271107T090000
END:STANDARD
END:VTIMEZONE
BEGIN:VEVENT
DTSTART;TZID=America/Los_Angeles:20260429T120000
DTEND;TZID=America/Los_Angeles:20260429T133000
DTSTAMP:20260425T094849
CREATED:20260330T183726Z
LAST-MODIFIED:20260409T195721Z
UID:10000094-1777464000-1777469400@oregonhospice.org
SUMMARY:HHWN WEBINAR: How to Conduct an Audit to Prepare for Survey/ADR
DESCRIPTION:How to Conduct an Audit to Prepare for Survey or ADR\nSpot risks before they strike. Surveys and ADRs expose documentation gaps that cost agencies penalties and payments. Join Kathy Ahearn for a step-by-step deep dive into comprehensive hospice documentation audits for Conditions of Participation and payment compliance. This session will reveal high-risk areas\, teach risk identification\, and show how to integrate findings into performance improvement plans that shield agencies from oversight challenges. \nKEY WEBINAR TAKEAWAYSDifferent types of audits\, licensing versus financialKey risk areas and how to avoid themKey technical versus key clinical documentation to support hospice eligibilityThe most common survey and payment denial challenges \nBONUS MATERIALSHospice Documentation Audit ToolHospice GIP Audit ToolHospice Documentation Audit ChecklistCMS Hospice Documentation Checklist ToolCMS Suggestions for Improved Documentation \nWEBINAR DETAILSHospice documentation should be audited both for Conditions of Participation and for Conditions for Payment. This presentation will take you through an effective hospice documentation audit step-by-step with a focus on critical areas of risk. Presented will be what should appear on every hospice documentation audit tool from technical to clinical requirements. We will discuss how to identify areas of risk and how to incorporate activities into performance improvement to avoid both survey and financial agency penalties. \nEnhanced oversight\, pre- and post-payment ADRs\, survey preparation\, and hospice documentation is more critical than ever. If your agency has had any survey or ADR challenges related to hospice documentation\, this presentation is recommended for you. \nTHE OHPCA PARTNERS WITH HOSPICE & HOME CARE WEBINAR NETWORK PROVIDING EDUCATIONAL OFFERINGS AT A DISCOUNT TO OHPCA MEMBERS. TO LEARN MORE ABOUT ACCESSING THESE WEBINARS\, PLEASE VISIT THE HOSPICE & HOME CARE WEBINAR NETWORK FAQ PAGE: Webinar Support | Hospice Agency Webinar | HHWN
URL:https://oregonhospice.org/event/hhwn-webinar-how-to-conduct-an-audit-to-prepare-for-survey-adr/
END:VEVENT
END:VCALENDAR