BEGIN:VCALENDAR
VERSION:2.0
PRODID:-//oregonhospice.org - ECPv6.15.20//NONSGML v1.0//EN
CALSCALE:GREGORIAN
METHOD:PUBLISH
X-WR-CALNAME:oregonhospice.org
X-ORIGINAL-URL:https://oregonhospice.org
X-WR-CALDESC:Events for oregonhospice.org
REFRESH-INTERVAL;VALUE=DURATION:PT1H
X-Robots-Tag:noindex
X-PUBLISHED-TTL:PT1H
BEGIN:VTIMEZONE
TZID:America/Los_Angeles
BEGIN:DAYLIGHT
TZOFFSETFROM:-0800
TZOFFSETTO:-0700
TZNAME:PDT
DTSTART:20250309T100000
END:DAYLIGHT
BEGIN:STANDARD
TZOFFSETFROM:-0700
TZOFFSETTO:-0800
TZNAME:PST
DTSTART:20251102T090000
END:STANDARD
BEGIN:DAYLIGHT
TZOFFSETFROM:-0800
TZOFFSETTO:-0700
TZNAME:PDT
DTSTART:20260308T100000
END:DAYLIGHT
BEGIN:STANDARD
TZOFFSETFROM:-0700
TZOFFSETTO:-0800
TZNAME:PST
DTSTART:20261101T090000
END:STANDARD
BEGIN:DAYLIGHT
TZOFFSETFROM:-0800
TZOFFSETTO:-0700
TZNAME:PDT
DTSTART:20270314T100000
END:DAYLIGHT
BEGIN:STANDARD
TZOFFSETFROM:-0700
TZOFFSETTO:-0800
TZNAME:PST
DTSTART:20271107T090000
END:STANDARD
END:VTIMEZONE
BEGIN:VEVENT
DTSTART;TZID=America/Los_Angeles:20260430T120000
DTEND;TZID=America/Los_Angeles:20260430T130000
DTSTAMP:20260425T094928
CREATED:20260330T183919Z
LAST-MODIFIED:20260409T195802Z
UID:10000095-1777550400-1777554000@oregonhospice.org
SUMMARY:HHWN WEBINAR: If It Wasn't Documented\, It Wasn't Done!
DESCRIPTION:If It Wasn't Documented\, It Wasn't Done!\nMake every hospice visit count — on paper and in practice. Each patient’s full story\, from election through discharge\, should be clearly understood through perusal of your documentation. Join this focused presentation to review essential regulatory requirements\, learn how to document in a way that supports hospice eligibility\, and examine common problems such as omissions and inaccuracies that weaken the clinical record. \nKEY WEBINAR TAKEAWAYSCommon documentation issues impacting hospice providersEssential documentation that is often missing or incorrectly notedClinical audits and follow-up for effective quality performance and improvement \nWEBINAR DETAILSWe have all heard the phrase\, “if it wasn’t documented\, it wasn’t done” related to clinical documentation. This session takes a deep dive into the essential requirements of hospice documentation to meet regulatory requirements and support hospice eligibility. Surveyors\, reviewers\, other IDG members\, and providers should be able to read the story of each hospice patient from election to discharge. Discussion will address common documentation issues including omissions and inaccuracies that may be entered into the clinical record. \nTHE OHPCA PARTNERS WITH HOSPICE & HOME CARE WEBINAR NETWORK PROVIDING EDUCATIONAL OFFERINGS AT A DISCOUNT TO OHPCA MEMBERS. TO LEARN MORE ABOUT ACCESSING THESE WEBINARS\, PLEASE VISIT THE HOSPICE & HOME CARE WEBINAR NETWORK FAQ PAGE: Webinar Support | Hospice Agency Webinar | HHWN
URL:https://oregonhospice.org/event/hhwn-webinar-if-it-wasnt-documented-it-wasnt-done/
END:VEVENT
END:VCALENDAR