BEGIN:VCALENDAR
VERSION:2.0
PRODID:-//oregonhospice.org - ECPv6.15.20//NONSGML v1.0//EN
CALSCALE:GREGORIAN
METHOD:PUBLISH
X-WR-CALNAME:oregonhospice.org
X-ORIGINAL-URL:https://oregonhospice.org
X-WR-CALDESC:Events for oregonhospice.org
REFRESH-INTERVAL;VALUE=DURATION:PT1H
X-Robots-Tag:noindex
X-PUBLISHED-TTL:PT1H
BEGIN:VTIMEZONE
TZID:America/Los_Angeles
BEGIN:DAYLIGHT
TZOFFSETFROM:-0800
TZOFFSETTO:-0700
TZNAME:PDT
DTSTART:20250309T100000
END:DAYLIGHT
BEGIN:STANDARD
TZOFFSETFROM:-0700
TZOFFSETTO:-0800
TZNAME:PST
DTSTART:20251102T090000
END:STANDARD
BEGIN:DAYLIGHT
TZOFFSETFROM:-0800
TZOFFSETTO:-0700
TZNAME:PDT
DTSTART:20260308T100000
END:DAYLIGHT
BEGIN:STANDARD
TZOFFSETFROM:-0700
TZOFFSETTO:-0800
TZNAME:PST
DTSTART:20261101T090000
END:STANDARD
BEGIN:DAYLIGHT
TZOFFSETFROM:-0800
TZOFFSETTO:-0700
TZNAME:PDT
DTSTART:20270314T100000
END:DAYLIGHT
BEGIN:STANDARD
TZOFFSETFROM:-0700
TZOFFSETTO:-0800
TZNAME:PST
DTSTART:20271107T090000
END:STANDARD
END:VTIMEZONE
BEGIN:VEVENT
DTSTART;TZID=America/Los_Angeles:20260212T140000
DTEND;TZID=America/Los_Angeles:20260212T150000
DTSTAMP:20260425T192240
CREATED:20260218T200717Z
LAST-MODIFIED:20260218T200717Z
UID:10000042-1770904800-1770908400@oregonhospice.org
SUMMARY:OHPCA/WSHPCO Hospice Bereavement Coordinators Networking
DESCRIPTION:OHPCA + WSHPCO Provider Member Semi-Monthly Networking Group for Hospice Bereavement Coordinators \nThis group meets the 2nd Thursday of February\, April\, June\, August\, October & December from 2-3p via Zoom. To be added to this networking group\, please call or email Meg McCauley\, 503/890-7027 or mccauley@oregonhospice.org.
URL:https://oregonhospice.org/event/ohpca-wshpco-hospice-bereavement-coordinators-networking/
END:VEVENT
BEGIN:VEVENT
DTSTART;TZID=America/Los_Angeles:20260211T120000
DTEND;TZID=America/Los_Angeles:20260211T130000
DTSTAMP:20260425T192240
CREATED:20251223T080158Z
LAST-MODIFIED:20260205T184021Z
UID:10000005-1770811200-1770814800@oregonhospice.org
SUMMARY:QAPI/Regulatory Networking Group
DESCRIPTION:This networking group is for those Provider Members with QAPI/Regulatory responsibilities within their hospice program and is facilitated by OHPCA CEO Barb Hansen. These meetings are held the second Wednesday of the month via Zoom from 12-1p. \nPlease call\, text or email Meg McCauley for the Zoom meeting link: (503)890-7027\, mccauley@oregonhospice.org.
URL:https://oregonhospice.org/event/qapi-regulatory-networking-group-2/
CATEGORIES:Zoom
ORGANIZER;CN="Meg McCauley":MAILTO:mccauley@oregonhospice.org
END:VEVENT
BEGIN:VEVENT
DTSTART;TZID=America/Los_Angeles:20260120T120000
DTEND;TZID=America/Los_Angeles:20260120T150000
DTSTAMP:20260425T192240
CREATED:20251223T080046Z
LAST-MODIFIED:20251223T080046Z
UID:10000004-1768910400-1768921200@oregonhospice.org
SUMMARY:OHPCA/WSHPCO Hospice Medical Directors Networking
DESCRIPTION:Monthly networking group for Member Hospice Medical Directors. \nThis networking group is for those OHPCA/WSHPCO Member Hospice Medical Directors and is facilitated by OHPCA CEO Barb Hansen. These meetings are held the third Tuesday of the month via Zoom from 12-1p. \nPlease call\, text or email Meg McCauley for the Zoom meeting link: (503)890-7027\, mccauley@oregonhospice.org.
URL:https://oregonhospice.org/event/ohpca-wshpco-hospice-medical-directors-networking/
CATEGORIES:Zoom
ORGANIZER;CN="Meg McCauley":MAILTO:mccauley@oregonhospice.org
END:VEVENT
BEGIN:VEVENT
DTSTART;TZID=America/Los_Angeles:20260115T140000
DTEND;TZID=America/Los_Angeles:20260115T160000
DTSTAMP:20260425T192240
CREATED:20251223T075655Z
LAST-MODIFIED:20260218T194704Z
UID:10000002-1768485600-1768492800@oregonhospice.org
SUMMARY:OHPCA + WSHPCO Inpatient Directors/Managers Networking Meeting
DESCRIPTION:This group meets the 2nd Tuesday of January\, March\, May\, September & November from 3-4p via Zoom. To be added to this networking group\, please call or email Meg McCauley\, 503/890-7027 or mccauley@oregonhospice.org.
URL:https://oregonhospice.org/event/ohpca-wshpco-provider-member-semi-monthly-networking-group-for-inpatient-hospice-directors-managers/
CATEGORIES:Zoom
ORGANIZER;CN="Barb Hansen":MAILTO:hansen@oregonhospice.org
END:VEVENT
BEGIN:VEVENT
DTSTART;TZID=America/Los_Angeles:20260114T120000
DTEND;TZID=America/Los_Angeles:20260114T150000
DTSTAMP:20260425T192240
CREATED:20251223T075915Z
LAST-MODIFIED:20251223T075915Z
UID:10000003-1768392000-1768402800@oregonhospice.org
SUMMARY:QAPI/Regulatory Networking Group
DESCRIPTION:Monthly networking group for Provider Members with QAPI/Regulatory responsibilities within their hospice program. \nThis networking group is for those Provider Members with QAPI/Regulatory responsibilities within their hospice program and is facilitated by OHPCA CEO Barb Hansen. These meetings are held the second Wednesday of the month via Zoom from 12-1p. \nPlease call\, text or email Meg McCauley for the Zoom meeting link: (503)890-7027\, mccauley@oregonhospice.org. \n 
URL:https://oregonhospice.org/event/qapi-regulatory-networking-group/
CATEGORIES:Zoom
ORGANIZER;CN="Meg McCauley":MAILTO:mccauley@oregonhospice.org
END:VEVENT
BEGIN:VEVENT
DTSTART;TZID=America/Los_Angeles:20260107T120000
DTEND;TZID=America/Los_Angeles:20260107T133000
DTSTAMP:20260425T192240
CREATED:20251223T075202Z
LAST-MODIFIED:20251223T075202Z
UID:10000001-1767787200-1767792600@oregonhospice.org
SUMMARY:Hospice 101: Understanding Medicare Hospice Eligibility & Admission Requirements
DESCRIPTION:REGISTER: Hospice 101: Understanding Medicare Hospice Eligibility & Admission Requirements | HHWN \nIs your hospice team confident in identifying eligible patients—and documenting it correctly? Join us for this beginner-friendly refresher course to explore best practices to determine Medicare hospice eligibility\, avoid audits and recoupments\, reduce revocations\, and protect your hospice agency compliance program. \nWEBINAR DETAILS\nHospice 101 will guide participants through the process of identifying appropriate hospice admissions\, with a focus on Medicare eligibility requirements. The session will cover hospice admission documentation\, including both technical and clinical requirements\, as well as the LCD guidelines and critical agency documentation needed to support terminality. Ensuring appropriate hospice admissions helps agencies avoid Medicare recoupments\, revocations\, and other compliance challenges. \nOHPCA partners with Hospice & Home Care Webinar Network to bring education opportunities to member hospice and palliative care providers in Oregon. These webinars are offered to OHPCA members at a discounted rate by our webinar partner\, Hospice & Home Care Webinar Network. No membership codes are needed to receive the OHPCA member rate\, but each person interested in watching a webinar is asked to create their own account and password with Hospice & Home Care Webinar Network. \nPlease visit the Hospice & Home Care Webinar Network’s WEBSITE to learn more and visit their SUPPORT page if you have questions concerning a webinar you’ve purchased.
URL:https://oregonhospice.org/event/hospice-101-understanding-medicare-hospice-eligibility-admission-requirements/
CATEGORIES:Webinar
END:VEVENT
END:VCALENDAR