BEGIN:VCALENDAR
VERSION:2.0
PRODID:-//oregonhospice.org - ECPv6.15.20//NONSGML v1.0//EN
CALSCALE:GREGORIAN
METHOD:PUBLISH
X-ORIGINAL-URL:https://oregonhospice.org
X-WR-CALDESC:Events for oregonhospice.org
REFRESH-INTERVAL;VALUE=DURATION:PT1H
X-Robots-Tag:noindex
X-PUBLISHED-TTL:PT1H
BEGIN:VTIMEZONE
TZID:America/Los_Angeles
BEGIN:DAYLIGHT
TZOFFSETFROM:-0800
TZOFFSETTO:-0700
TZNAME:PDT
DTSTART:20250309T100000
END:DAYLIGHT
BEGIN:STANDARD
TZOFFSETFROM:-0700
TZOFFSETTO:-0800
TZNAME:PST
DTSTART:20251102T090000
END:STANDARD
BEGIN:DAYLIGHT
TZOFFSETFROM:-0800
TZOFFSETTO:-0700
TZNAME:PDT
DTSTART:20260308T100000
END:DAYLIGHT
BEGIN:STANDARD
TZOFFSETFROM:-0700
TZOFFSETTO:-0800
TZNAME:PST
DTSTART:20261101T090000
END:STANDARD
BEGIN:DAYLIGHT
TZOFFSETFROM:-0800
TZOFFSETTO:-0700
TZNAME:PDT
DTSTART:20270314T100000
END:DAYLIGHT
BEGIN:STANDARD
TZOFFSETFROM:-0700
TZOFFSETTO:-0800
TZNAME:PST
DTSTART:20271107T090000
END:STANDARD
END:VTIMEZONE
BEGIN:VEVENT
DTSTART;TZID=America/Los_Angeles:20260408T120000
DTEND;TZID=America/Los_Angeles:20260408T130000
DTSTAMP:20260425T122747
CREATED:20251223T080905Z
LAST-MODIFIED:20260217T211859Z
UID:10000011-1775649600-1775653200@oregonhospice.org
SUMMARY:QAPI/Regulatory Networking Group
DESCRIPTION:Monthly networking group for Provider Members with QAPI/Regulatory responsibilities within their hospice program. \nThis networking group is for those Provider Members with QAPI/Regulatory responsibilities within their hospice program and is facilitated by OHPCA CEO Barb Hansen. These meetings are held the second Wednesday of the month via Zoom from 12-1p. \nPlease call\, text or email Meg McCauley for the Zoom meeting link: (503)890-7027\, mccauley@oregonhospice.org. \n 
URL:https://oregonhospice.org/event/qapi-regulatory-networking-group-4/
CATEGORIES:Zoom
ORGANIZER;CN="Meg McCauley":MAILTO:mccauley@oregonhospice.org
END:VEVENT
END:VCALENDAR